BEGIN:VCALENDAR
VERSION:2.0
PRODID:-//Bella Vida Retreats - ECPv6.15.13//NONSGML v1.0//EN
CALSCALE:GREGORIAN
METHOD:PUBLISH
X-ORIGINAL-URL:https://retreattocostarica.com
X-WR-CALDESC:Events for Bella Vida Retreats
REFRESH-INTERVAL;VALUE=DURATION:PT1H
X-Robots-Tag:noindex
X-PUBLISHED-TTL:PT1H
BEGIN:VTIMEZONE
TZID:America/New_York
BEGIN:DAYLIGHT
TZOFFSETFROM:-0500
TZOFFSETTO:-0400
TZNAME:EDT
DTSTART:20250309T070000
END:DAYLIGHT
BEGIN:STANDARD
TZOFFSETFROM:-0400
TZOFFSETTO:-0500
TZNAME:EST
DTSTART:20251102T060000
END:STANDARD
BEGIN:DAYLIGHT
TZOFFSETFROM:-0500
TZOFFSETTO:-0400
TZNAME:EDT
DTSTART:20260308T070000
END:DAYLIGHT
BEGIN:STANDARD
TZOFFSETFROM:-0400
TZOFFSETTO:-0500
TZNAME:EST
DTSTART:20261101T060000
END:STANDARD
BEGIN:DAYLIGHT
TZOFFSETFROM:-0500
TZOFFSETTO:-0400
TZNAME:EDT
DTSTART:20270314T070000
END:DAYLIGHT
BEGIN:STANDARD
TZOFFSETFROM:-0400
TZOFFSETTO:-0500
TZNAME:EST
DTSTART:20271107T060000
END:STANDARD
END:VTIMEZONE
BEGIN:VEVENT
DTSTART;TZID=America/New_York:20260322T080000
DTEND;TZID=America/New_York:20260329T170000
DTSTAMP:20260423T143825
CREATED:20260110T195902Z
LAST-MODIFIED:20260117T213400Z
UID:2204-1774166400-1774803600@retreattocostarica.com
SUMMARY:Deep Tissue: Jungle Edition - Immersive Massage Training
DESCRIPTION:Master Your Craft – Immerse in Adventure!\nEscape to the breathtaking landscapes of Costa Rica for an unforgettable massage training and adventure retreat designed exclusively for massage therapists looking to elevate their skills. \nTrain with a Massage Therapist Trusted by the Pros\nThis immersive training is led by Kerry Manter\, a massage therapist with over 30 years of experience working with athletes and 25 years as a massage therapist for New England’s pro football team. Gain expert insights into the techniques used to optimize recovery\, enhance mobility\, and prevent injuries in high-performance athletes. \nWhat Awaits You?\n24 Hours of Hands-On Training in Deep Tissue & Sports Massage \n\nMaster targeted techniques for both upper and lower extremities to improve mobility\, release tension\, and enhance performance.\nSpecial emphasis on the glutes\, hips\, and lower extremities\, crucial areas for athletic movement\, injury prevention\, and pain relief.\nHands-on instruction in a relaxing yet immersive learning environment.\n\n  \nAdventure in Costa Rica’s Natural Wonders \n\nExplore lush jungles\, hidden waterfalls\, and pristine beaches.\nVisit Manuel Antonio National Park\, one of Costa Rica’s most stunning and biodiverse destinations.\nOptional excursions: white-water rafting\, ATV tours\, surfing\, and ziplining through the rainforest!\n\n  \nUnwind & Rejuvenate \n\nStay in a tranquil retreat setting surrounded by nature.\nEnjoy healthy\, nourishing meals to fuel your body and mind.\nConnect with like-minded professionals for an inspiring and enriching experience.\n\nWho is This For?\nMassage therapists eager to expand their expertise\, recharge in nature\, and return home with powerful new techniques to enhance their practice. Whether you work with elite athletes or everyday clients in need of deep tissue therapy\, this retreat will elevate your skills. \nWhat’s Included?\n Six nights of lodging and meals Transportation within Costa Rica Excursion to Manuel Antonio National Park Excursion to Nauyaca Waterfalls (includes lunch) Local dinner experience with a Costa Rican family \nNot Included:\n Flights Travel insurance Gratuities Lunch during Manuel Antonio Excursion Additional excursions \nPricing & Registration\n March 22 – March 28\, 2026 \n\nPrivate Room/Cabin: $1\,795 (normally $2\,375)\nShared Cabin: $1\,545 (normally $2\,125)\n\nA deposit of $500 secures your spot.  \nReserve Your Spot!\nAre you ready for the ultimate blend of education\, relaxation\, and adventure? Join us in Costa Rica! \n \nAbout the Instructor – Kerry Manter \nWith over 35 years of experience as a massage therapist\, Kerry Manter has dedicated her career to the art and science of bodywork. As the owner of a thriving day spa in Southeastern Massachusetts\, she has worked with clients from all walks of life. However\, for the past 25 years\, her focus has been on working exclusively with professional athletes\, helping them achieve peak performance and recovery. \nIn addition to her hands-on expertise\, Kerry has been training and mentoring therapists at her spa for over 20 years\, sharing her extensive knowledge and specialized skills. Now\, she invites you to the breathtaking jungles of Costa Rica for an unforgettable learning experience. Join her to enhance your skill set\, discover new techniques\, and embark on an adventure that blends professional growth with the beauty of nature. \nClaim your spot: \nhttps://docs.google.com/forms/d/e/1FAIpQLSfWBu0pFy9jnJH1aYxqxsIfrxW7YVw3SwauHzwJ8IL7Pv6c6w/viewform?usp=header
URL:https://retreattocostarica.com/event/deep-tissue-jungle-edition-immersive-massage-training/
LOCATION:Bella Vida Mountain Retreat\, Costa Rica
ATTACH;FMTTYPE=image/png:https://retreattocostarica.com/wp-content/uploads/2026/01/Untitled-design-2.png
END:VEVENT
END:VCALENDAR