BEGIN:VCALENDAR
VERSION:2.0
PRODID:-//Bella Vida Retreats - ECPv6.15.13//NONSGML v1.0//EN
CALSCALE:GREGORIAN
METHOD:PUBLISH
X-WR-CALNAME:Bella Vida Retreats
X-ORIGINAL-URL:https://retreattocostarica.com
X-WR-CALDESC:Events for Bella Vida Retreats
REFRESH-INTERVAL;VALUE=DURATION:PT1H
X-Robots-Tag:noindex
X-PUBLISHED-TTL:PT1H
BEGIN:VTIMEZONE
TZID:UTC
BEGIN:STANDARD
TZOFFSETFROM:+0000
TZOFFSETTO:+0000
TZNAME:UTC
DTSTART:20240101T000000
END:STANDARD
END:VTIMEZONE
BEGIN:VEVENT
DTSTART;VALUE=DATE:20250615
DTEND;VALUE=DATE:20250716
DTSTAMP:20260423T100755
CREATED:20241107T204501Z
LAST-MODIFIED:20241122T030349Z
UID:962-1749945600-1752623999@retreattocostarica.com
SUMMARY:Yoga Teacher Training
DESCRIPTION:200-hr Yoga Teacher Training Certificate Course meets 28 day Ayurvedic Retreat\nA 1-month Residential Yoga Teacher Training Course meets Ayurvedic Retreat. Learn the foundations of yoga and practise an ayurvedic lifestyle immersed in a peaceful and natural environment\, supported by experienced and dedicated teachers. \nWhether you want to have an extended\, intentional retreat dedicated to expanding your yoga experience or you are ready to earn a certification so you can authentically and professionally share yoga with others  – this course will provide you with a transformative experience for yourself and your communities. \nThis yoga training course and retreat includes accommodation\, meals\, and all yoga training materials for the entire stay. \nInner Wellness Studio is a Registered Yoga School with Yoga Alliance. \nClick here to know more \n \n 
URL:https://retreattocostarica.com/event/yoga-teacher-training/
LOCATION:Bella Vida Mountain Retreat\, Costa Rica
ATTACH;FMTTYPE=image/jpeg:https://retreattocostarica.com/wp-content/uploads/2024/11/Yoga-Practice-Yoga-Teacher-Training-Retreat-Costa-Rica.jpg
ORGANIZER;CN="Inner Wellness Studio":MAILTO:info@innerwellnessstudio.com
END:VEVENT
END:VCALENDAR