BEGIN:VCALENDAR
VERSION:2.0
PRODID:-//Bella Vida Retreats - ECPv6.15.13//NONSGML v1.0//EN
CALSCALE:GREGORIAN
METHOD:PUBLISH
X-WR-CALNAME:Bella Vida Retreats
X-ORIGINAL-URL:https://retreattocostarica.com
X-WR-CALDESC:Events for Bella Vida Retreats
REFRESH-INTERVAL;VALUE=DURATION:PT1H
X-Robots-Tag:noindex
X-PUBLISHED-TTL:PT1H
BEGIN:VTIMEZONE
TZID:UTC
BEGIN:STANDARD
TZOFFSETFROM:+0000
TZOFFSETTO:+0000
TZNAME:UTC
DTSTART:20240101T000000
END:STANDARD
END:VTIMEZONE
BEGIN:VEVENT
DTSTART;TZID=UTC:20250426T160000
DTEND;TZID=UTC:20250502T110000
DTSTAMP:20260423T130855
CREATED:20250307T210702Z
LAST-MODIFIED:20260111T003213Z
UID:1008-1745683200-1746183600@retreattocostarica.com
SUMMARY:Deep Tissue & Sports Massage Training Retreat in Costa Rica
DESCRIPTION:Master Your Craft – Immerse in Adventure!\nEscape to the breathtaking landscapes of Costa Rica for an unforgettable massage training and adventure retreat designed exclusively for massage therapists looking to elevate their skills. \nTrain with a Massage Therapist Trusted by the Pros\nThis immersive training is led by Kerry Manter\, a massage therapist with over 30 years of experience working with athletes and 25 years as a massage therapist for New England’s pro football team. Gain expert insights into the techniques used to optimize recovery\, enhance mobility\, and prevent injuries in high-performance athletes. \nWhat Awaits You?\n✅ 18 Hours of Hands-On Training in Deep Tissue & Sports Massage \n\nMaster targeted techniques for both upper and lower extremities to improve mobility\, release tension\, and enhance performance.\nSpecial emphasis on the glutes\, hips\, and lower extremities\, crucial areas for athletic movement\, injury prevention\, and pain relief.\nHands-on instruction in a relaxing yet immersive learning environment.\n\n  \n✅ Adventure in Costa Rica’s Natural Wonders \n\nExplore lush jungles\, hidden waterfalls\, and pristine beaches.\nVisit Manuel Antonio National Park\, one of Costa Rica’s most stunning and biodiverse destinations.\nOptional excursions: white-water rafting\, ATV tours\, surfing\, and ziplining through the rainforest!\n\n  \n✅ Unwind & Rejuvenate \n\nStay in a tranquil retreat setting surrounded by nature.\nEnjoy healthy\, nourishing meals to fuel your body and mind.\nConnect with like-minded professionals for an inspiring and enriching experience.\n\nWho is This For?\nMassage therapists eager to expand their expertise\, recharge in nature\, and return home with powerful new techniques to enhance their practice. Whether you work with elite athletes or everyday clients in need of deep tissue therapy\, this retreat will elevate your skills. \nWhat’s Included?\n✔️ Seven nights of lodging✔️ Transportation within Costa Rica✔️ Excursion to Manuel Antonio National Park✔️ Excursion to Nauyaca Waterfalls (includes lunch)✔️ Local dinner experience with a Costa Rican family \nNot Included:\n❌ Flights❌ Travel insurance❌ Gratuities❌ Lunch during Manuel Antonio Excursion❌ Additional excursions \nPricing & Registration\nChoose from two retreat dates\, each with a special discount! \n✔️ April 26 – May 3\, 2025 \n\nPrivate Room/Cabin: $1\,625\nShared Cabin: $1\,375\n\n✔️ June 21 – June 28\, 2025 \n\nPrivate Room/Cabin: $1\,875\nShared Cabin: $1\,625\n\n  \nA deposit of $500 secures your spot. Payment plans available! \nReserve Your Spot!\nLimited spaces available – don’t miss this opportunity to learn\, explore\, and transform! \n📍 Costa Rica | April 26 – May 3 & June 21 – 28\, 2025📩 Kmant33@gmail.com  Whatsapp +506 8713 9770 \nAre you ready for the ultimate blend of education\, relaxation\, and adventure? Join us in Costa Rica! \n  \n \nAbout the Instructor – Kerry Manter \nWith over 35 years of experience as a massage therapist\, Kerry Manter has dedicated her career to the art and science of bodywork. As the owner of a thriving day spa in Southeastern Massachusetts\, she has worked with clients from all walks of life. However\, for the past 25 years\, her focus has been on working exclusively with professional athletes\, helping them achieve peak performance and recovery. \nIn addition to her hands-on expertise\, Kerry has been training and mentoring therapists at her spa for over 20 years\, sharing her extensive knowledge and specialized skills. Now\, she invites you to the breathtaking jungles of Costa Rica for an unforgettable learning experience. Join her to enhance your skill set\, discover new techniques\, and embark on an adventure that blends professional growth with the beauty of nature. \n  \n 
URL:https://retreattocostarica.com/event/costa-rica-massage-training-and-adventure/
LOCATION:Bella Vida Mountain Retreat\, Costa Rica
ATTACH;FMTTYPE=image/jpeg:https://retreattocostarica.com/wp-content/uploads/2025/03/031122_BellaVida_YogaDiningHall_CR_1038-HDR.jpg
ORGANIZER;CN="Kerry Manter":MAILTO:info@retreattocostarica.com
END:VEVENT
END:VCALENDAR